BEGIN:VCALENDAR
VERSION:2.0
PRODID:-//Connecticut Fire Chiefs Association - ECPv5.2.1//NONSGML v1.0//EN
CALSCALE:GREGORIAN
METHOD:PUBLISH
X-WR-CALNAME:Connecticut Fire Chiefs Association
X-ORIGINAL-URL:https://connecticutfirechiefs.com
X-WR-CALDESC:Events for Connecticut Fire Chiefs Association
BEGIN:VTIMEZONE
TZID:UTC
BEGIN:STANDARD
TZOFFSETFROM:+0000
TZOFFSETTO:+0000
TZNAME:UTC
DTSTART:20190101T000000
END:STANDARD
END:VTIMEZONE
BEGIN:VEVENT
DTSTART;TZID=UTC:20190929T123000
DTEND;TZID=UTC:20190929T133000
DTSTAMP:20260423T155800
CREATED:20190822T181225Z
LAST-MODIFIED:20190822T181225Z
UID:453-1569760200-1569763800@connecticutfirechiefs.com
SUMMARY:17th Annual Firefighters Memorial Service
DESCRIPTION:Save the Date… \nSunday\, September 29\, 2019\n12:30 PM\nConnecticut Fire Academy\nWindsor Locks\, CT \nOn behalf of the Connecticut State Firefighter’s Association Memorial Foundation we are pleased to extend to you an invitation to attend the 17th Annual Fallen Firefighters Memorial Service. \nMore Information
URL:https://connecticutfirechiefs.com/index.php/event/17th-annual-firefighters-memorial-service/
END:VEVENT
END:VCALENDAR