BEGIN:VCALENDAR
VERSION:2.0
PRODID:-//Connecticut Fire Chiefs Association - ECPv5.2.1//NONSGML v1.0//EN
CALSCALE:GREGORIAN
METHOD:PUBLISH
X-WR-CALNAME:Connecticut Fire Chiefs Association
X-ORIGINAL-URL:https://connecticutfirechiefs.com
X-WR-CALDESC:Events for Connecticut Fire Chiefs Association
BEGIN:VTIMEZONE
TZID:UTC
BEGIN:STANDARD
TZOFFSETFROM:+0000
TZOFFSETTO:+0000
TZNAME:UTC
DTSTART:20230101T000000
END:STANDARD
END:VTIMEZONE
BEGIN:VEVENT
DTSTART;TZID=UTC:20230425T180000
DTEND;TZID=UTC:20230425T233000
DTSTAMP:20260423T002646
CREATED:20230410T195156Z
LAST-MODIFIED:20230410T195552Z
UID:966-1682445600-1682465400@connecticutfirechiefs.com
SUMMARY:April 25\, 2023 Monthly Meeting of the CFCA will be at Angelo's Restaurant\, Glastonbury
DESCRIPTION:The April meeting of the CT Fire Chiefs Association will be held on Tuesday April 25\, 2023  at \nAngelo’s Restaurant \n2705 Main Street \nGlastonbury\, CT 06033\n\nFirematic will be sponsoring the social hour this evening\n\nPlease RSVP by Monday April 19 \n\nThe guest speaker is going to be Chief John Oates\n\nWe will meet at 6:00 PM to start the gathering with our guest speaker and have dinner after this educational presentation.  A Zoom link will be emailed to the membership prior to the meeting date for those who cannot join us in person. \n\nR. S. V. P.
URL:https://connecticutfirechiefs.com/index.php/event/966/
LOCATION:Angelo’s Restaurant\, Glastonbury\, CT 06033\, 2705 Main Street\, Glatonbury\, CT\, 06033\, United States
END:VEVENT
END:VCALENDAR