BEGIN:VCALENDAR
VERSION:2.0
PRODID:-//Connecticut Fire Chiefs Association - ECPv5.2.1//NONSGML v1.0//EN
CALSCALE:GREGORIAN
METHOD:PUBLISH
X-WR-CALNAME:Connecticut Fire Chiefs Association
X-ORIGINAL-URL:https://connecticutfirechiefs.com
X-WR-CALDESC:Events for Connecticut Fire Chiefs Association
BEGIN:VTIMEZONE
TZID:UTC
BEGIN:STANDARD
TZOFFSETFROM:+0000
TZOFFSETTO:+0000
TZNAME:UTC
DTSTART:20220101T000000
END:STANDARD
END:VTIMEZONE
BEGIN:VEVENT
DTSTART;TZID=UTC:20220823T180000
DTEND;TZID=UTC:20220823T233000
DTSTAMP:20260423T101054
CREATED:20220713T150645Z
LAST-MODIFIED:20220804T142145Z
UID:885-1661277600-1661297400@connecticutfirechiefs.com
SUMMARY:August 23   Litchfield County Regional Fire School\, Torrington\, CT
DESCRIPTION:The CT Fire Chiefs Association will hold their August meeting at the Litchfield County Regional Fire School on\n606 Burr Mountain Road in Torrington\n\nTraining topic-  All Waste Refuse  –   Review of CNG Operated vehicles\nSpeaker- Bob Norton\n\nDinner- Chicken Francese\, Oven Roasted Potatoes\, Green Beans\, Rolls.\nDrinks- Coffee\, Soda\, Water\n\n6-6:30pm Social networking\n\n6:30pm- Dinner will be served in the cafeteria. \n7:00pm- Training presentation in Classroom 1 \n7:30pm- Regular meeting in Classroom 1 \nTours of the fire school are available before or after the meeting. \n\n RSVP MUST be by August 15\, no exceptions as I have to let the caterer know \nA ZOOM link will be sent to the membership via email if you cannot attend the event. \nR S V P\n 
URL:https://connecticutfirechiefs.com/index.php/event/august-23-litchfield-county-regional-fire-school-tentative-location/
LOCATION:Litchfield County Fire School\, 606 Burr Mountain Road\, Torrington\, CT\, 06063
END:VEVENT
END:VCALENDAR