BEGIN:VCALENDAR
VERSION:2.0
PRODID:-//Connecticut Fire Chiefs Association - ECPv5.2.1//NONSGML v1.0//EN
CALSCALE:GREGORIAN
METHOD:PUBLISH
X-WR-CALNAME:Connecticut Fire Chiefs Association
X-ORIGINAL-URL:https://connecticutfirechiefs.com
X-WR-CALDESC:Events for Connecticut Fire Chiefs Association
BEGIN:VTIMEZONE
TZID:America/New_York
BEGIN:DAYLIGHT
TZOFFSETFROM:-0500
TZOFFSETTO:-0400
TZNAME:EDT
DTSTART:20210314T070000
END:DAYLIGHT
BEGIN:STANDARD
TZOFFSETFROM:-0400
TZOFFSETTO:-0500
TZNAME:EST
DTSTART:20211107T060000
END:STANDARD
END:VTIMEZONE
BEGIN:VEVENT
DTSTART;TZID=America/New_York:20211123T180000
DTEND;TZID=America/New_York:20211123T213000
DTSTAMP:20260423T120454
CREATED:20211023T134217Z
LAST-MODIFIED:20211023T135110Z
UID:802-1637690400-1637703000@connecticutfirechiefs.com
SUMMARY:CFCA Annual Banquet Nov 23 at the Crystal Peak in Winchester\, CT
DESCRIPTION:The Annual Banquet of the CFCA will be held on November 23\, 2021 at the Crystal Peak\, 164 Torrington Road (Old Route 8)\nWinchester\, CT 06094.  A social hour will begin at 6 PM with dinner to follow at 7 PM.  The business meeting and swearing in of your new Officers will follow.     RSVP to this dinner have to be in by November 12 \nR S V P
URL:https://connecticutfirechiefs.com/index.php/event/cfca-annual-banquet-nov-23-at-the-crystal-peak-in-winchester-ct/
LOCATION:Crystal Peak\, 164 Torrington Road\, Winchester\, CT\, United States
END:VEVENT
END:VCALENDAR