BEGIN:VCALENDAR
VERSION:2.0
PRODID:-//Connecticut Fire Chiefs Association - ECPv5.2.1//NONSGML v1.0//EN
CALSCALE:GREGORIAN
METHOD:PUBLISH
X-WR-CALNAME:Connecticut Fire Chiefs Association
X-ORIGINAL-URL:https://connecticutfirechiefs.com
X-WR-CALDESC:Events for Connecticut Fire Chiefs Association
BEGIN:VTIMEZONE
TZID:UTC
BEGIN:STANDARD
TZOFFSETFROM:+0000
TZOFFSETTO:+0000
TZNAME:UTC
DTSTART:20220101T000000
END:STANDARD
END:VTIMEZONE
BEGIN:VEVENT
DTSTART;TZID=UTC:20220524T180000
DTEND;TZID=UTC:20220524T233000
DTSTAMP:20260423T101119
CREATED:20220509T182129Z
LAST-MODIFIED:20220509T182129Z
UID:866-1653415200-1653435000@connecticutfirechiefs.com
SUMMARY:CFCA May 24\, 2022  Elizabeth's Restaurant\, Rocky Hill\, CT 06067
DESCRIPTION:May meeting of the CFCA will be held at\nElizabeth’s Restaurant\n825 Cromwell Ave\, Rocky Hill 06067\n\nThe cost of the dinner is $30 and includes a buffet\, dessert and coffee.\n\nSocial hour 6-6:30pm\nTraining starts at 6:30pm followed by dinner and then the meeting.\n\nTraining topic:\n\nCT Honor Flight will have a brief discussion of their program about their program. This organization raises funds to fly veterans from WWII and Korea to DC to see the memorials in their honor.  Here is their website for more info- https://honorflightct.org/home\n\n We will also have the CT Honor Guard making a presentation as well.  They will discuss their organization and what services they offer to the fire departments in CT in the event they are needed.\n\nPlease RSVP to the meeting by May 16\, 2022. \n\nA ZOOM invitation will be sent the the membership prior to the meeting if you are unable to attend.\n\nR S V P
URL:https://connecticutfirechiefs.com/index.php/event/cfca-may-24-2022-elizabeths-restaurant-rocky-hill-ct-06067/
LOCATION:Elizabeth’s Restaurant\, Rocky Hill\, CT 06067\, 825 Cromwell Avenue\, Rocky Hill\, CT\, 06067\, United States
END:VEVENT
END:VCALENDAR