BEGIN:VCALENDAR
VERSION:2.0
PRODID:-//Connecticut Fire Chiefs Association - ECPv5.2.1//NONSGML v1.0//EN
CALSCALE:GREGORIAN
METHOD:PUBLISH
X-WR-CALNAME:Connecticut Fire Chiefs Association
X-ORIGINAL-URL:https://connecticutfirechiefs.com
X-WR-CALDESC:Events for Connecticut Fire Chiefs Association
BEGIN:VTIMEZONE
TZID:UTC
BEGIN:STANDARD
TZOFFSETFROM:+0000
TZOFFSETTO:+0000
TZNAME:UTC
DTSTART:20240101T000000
END:STANDARD
END:VTIMEZONE
BEGIN:VEVENT
DTSTART;TZID=UTC:20240326T180000
DTEND;TZID=UTC:20240326T233000
DTSTAMP:20260422T130729
CREATED:20240301T145748Z
LAST-MODIFIED:20240301T150018Z
UID:1043-1711476000-1711495800@connecticutfirechiefs.com
SUMMARY:CFCA Meeting    -   March 26\, 2024   -   Windham\, CT
DESCRIPTION:The Monthly Dinner Hybrid Meeting of the CT Fire Chiefs Association will be on March 26\, 2024 at the  Windham Golf Club\, 184 Club Rd\, North Windham\, CT 06256. \nFire Alarm Specialty Design is sponsoring a one hour happy hour. \nOur guest speaker will be Michael Matros from Redline\, an on-site turnout gear cleaning specialist\, to present a program on PPE Management and NFPA/ CT state mandate. \nMichael has also offered to sponsor/donate $8.00 per dinner. \nSo your cost for dinner is $40.00   —  Thank you Michael……………. \nR. S. V. P.\n  \n 
URL:https://connecticutfirechiefs.com/index.php/event/cfca-meeting-march-26-2024-windham-ct/
LOCATION:Windham Golf Course\, 184 Club Road\, Windham\, CT\, 06256\, United States
END:VEVENT
END:VCALENDAR