BEGIN:VCALENDAR
VERSION:2.0
PRODID:-//Connecticut Fire Chiefs Association - ECPv5.2.1//NONSGML v1.0//EN
CALSCALE:GREGORIAN
METHOD:PUBLISH
X-WR-CALNAME:Connecticut Fire Chiefs Association
X-ORIGINAL-URL:https://connecticutfirechiefs.com
X-WR-CALDESC:Events for Connecticut Fire Chiefs Association
BEGIN:VTIMEZONE
TZID:America/New_York
BEGIN:DAYLIGHT
TZOFFSETFROM:-0500
TZOFFSETTO:-0400
TZNAME:EDT
DTSTART:20210314T070000
END:DAYLIGHT
BEGIN:STANDARD
TZOFFSETFROM:-0400
TZOFFSETTO:-0500
TZNAME:EST
DTSTART:20211107T060000
END:STANDARD
END:VTIMEZONE
BEGIN:VEVENT
DTSTART;TZID=America/New_York:20211026T180000
DTEND;TZID=America/New_York:20211026T210000
DTSTAMP:20260423T120541
CREATED:20211018T104143Z
LAST-MODIFIED:20211023T135400Z
UID:794-1635271200-1635282000@connecticutfirechiefs.com
SUMMARY:CT Fire Chiefs Association Dinner Meeting\, October 26 at the Cafe Fiore\, Cromwell\, CT
DESCRIPTION:The Monthly Dinner Hybrid Meeting of the CT Fire Chiefs Association will be on Tuesday\, October 26\, 2021. We will meet at 6 PM for an educational session\, followed by dinner at 7 PM\, and then the monthly meeting. The meeting will be held at Cafe Fiore\, 134 Berlin Road\, Cromwell\, CT .  A ZOOM link will sent to the membership via email. \nR S V P
URL:https://connecticutfirechiefs.com/index.php/event/ct-fire-chiefs-association-dinner-meeting-october-26-at-the-cafe-fiore-cromwell-ct/
LOCATION:Cafe Flore\, 134 Berlin Road Cromwell CT 06416\, Cromwell\, CT\, 06416\, United States
END:VEVENT
END:VCALENDAR