BEGIN:VCALENDAR
VERSION:2.0
PRODID:-//Connecticut Fire Chiefs Association - ECPv5.2.1//NONSGML v1.0//EN
CALSCALE:GREGORIAN
METHOD:PUBLISH
X-WR-CALNAME:Connecticut Fire Chiefs Association
X-ORIGINAL-URL:https://connecticutfirechiefs.com
X-WR-CALDESC:Events for Connecticut Fire Chiefs Association
BEGIN:VTIMEZONE
TZID:UTC
BEGIN:STANDARD
TZOFFSETFROM:+0000
TZOFFSETTO:+0000
TZNAME:UTC
DTSTART:20190101T000000
END:STANDARD
END:VTIMEZONE
BEGIN:VEVENT
DTSTART;TZID=UTC:20190619T180500
DTEND;TZID=UTC:20190619T210500
DTSTAMP:20260423T140243
CREATED:20190327T202417Z
LAST-MODIFIED:20190412T191531Z
UID:297-1560967500-1560978300@connecticutfirechiefs.com
SUMMARY:Hartford Yard Goats
DESCRIPTION:Game time: 7:05 PM \nGates Open: 6:05 PM \nBowie Baysox (Baltimore Orioles) vs Hartford Yard Goats (Colorado Rockies) \nGet tickets\nSpend an evening at the ballpark supporting the Connecticut State Firefighters Association Memorial Foundation \nSpecial Pre-Game Ceremonies \nRecognizing Connecticut’s Bravest \nTicket order deadline: Wednesday\, June 5
URL:https://connecticutfirechiefs.com/index.php/event/hartford-yard-goats/
LOCATION:Dunkin Donuts Park
END:VEVENT
END:VCALENDAR