BEGIN:VCALENDAR
VERSION:2.0
PRODID:-//Connecticut Fire Chiefs Association - ECPv5.2.1//NONSGML v1.0//EN
CALSCALE:GREGORIAN
METHOD:PUBLISH
X-WR-CALNAME:Connecticut Fire Chiefs Association
X-ORIGINAL-URL:https://connecticutfirechiefs.com
X-WR-CALDESC:Events for Connecticut Fire Chiefs Association
BEGIN:VTIMEZONE
TZID:UTC
BEGIN:STANDARD
TZOFFSETFROM:+0000
TZOFFSETTO:+0000
TZNAME:UTC
DTSTART:20220101T000000
END:STANDARD
END:VTIMEZONE
BEGIN:VEVENT
DTSTART;TZID=UTC:20220624T080000
DTEND;TZID=UTC:20220626T170000
DTSTAMP:20260423T100834
CREATED:20220713T153922Z
LAST-MODIFIED:20220713T153947Z
UID:894-1656057600-1656262800@connecticutfirechiefs.com
SUMMARY:June   New England Association of Fire Chiefs\, (NEAFC) a Division of the International Association of Fire Chiefs (IAFC) in Worchester\, MA
DESCRIPTION:
URL:https://connecticutfirechiefs.com/index.php/event/june-new-england-association-of-fire-chiefs-neafc-a-division-of-the-international-association-of-fire-chiefs-iafc-in-worchester-ma/
END:VEVENT
END:VCALENDAR