BEGIN:VCALENDAR
VERSION:2.0
PRODID:-//Connecticut Fire Chiefs Association - ECPv5.2.1//NONSGML v1.0//EN
CALSCALE:GREGORIAN
METHOD:PUBLISH
X-WR-CALNAME:Connecticut Fire Chiefs Association
X-ORIGINAL-URL:https://connecticutfirechiefs.com
X-WR-CALDESC:Events for Connecticut Fire Chiefs Association
BEGIN:VTIMEZONE
TZID:UTC
BEGIN:STANDARD
TZOFFSETFROM:+0000
TZOFFSETTO:+0000
TZNAME:UTC
DTSTART:20190101T000000
END:STANDARD
END:VTIMEZONE
BEGIN:VEVENT
DTSTART;VALUE=DATE:20190423
DTEND;VALUE=DATE:20190424
DTSTAMP:20260423T135939
CREATED:20190412T174922Z
LAST-MODIFIED:20190412T191328Z
UID:324-1555977600-1556063999@connecticutfirechiefs.com
SUMMARY:Meeting
DESCRIPTION:Wethersfield Country Club\, 76 Country Club rd Wethersfield ct.  The educational program will include Heather Burian from Channel 30
URL:https://connecticutfirechiefs.com/index.php/event/meeting/
LOCATION:Wethersfield Country Club
END:VEVENT
END:VCALENDAR