BEGIN:VCALENDAR
VERSION:2.0
PRODID:-//Connecticut Fire Chiefs Association - ECPv5.2.1//NONSGML v1.0//EN
CALSCALE:GREGORIAN
METHOD:PUBLISH
X-WR-CALNAME:Connecticut Fire Chiefs Association
X-ORIGINAL-URL:https://connecticutfirechiefs.com
X-WR-CALDESC:Events for Connecticut Fire Chiefs Association
BEGIN:VTIMEZONE
TZID:UTC
BEGIN:STANDARD
TZOFFSETFROM:+0000
TZOFFSETTO:+0000
TZNAME:UTC
DTSTART:20190101T000000
END:STANDARD
END:VTIMEZONE
BEGIN:VEVENT
DTSTART;TZID=UTC:20190620T080000
DTEND;TZID=UTC:20190623T170000
DTSTAMP:20260423T140340
CREATED:20190302T005103Z
LAST-MODIFIED:20190412T185832Z
UID:265-1561017600-1561309200@connecticutfirechiefs.com
SUMMARY:New England Fire/EMS Expo 2019
DESCRIPTION:June 20-23\, 2019\nFoxwoods Resort & Casino\nwww.NewEnglandFireChiefs.org \nEducational Programs\nAll Education programs include an expo day pass for Friday. \nThursday\, June 20 \n9 AM – 4 PM\nDeveloping Critical Incident Decision-Making Skills\nInstructor: Chief John Sullivan\, Brookline Fire Department\, MA \n8:30 AM – 4:30 PM\nForcible Entry for Line Officers and Firefighters\nPresented by: Paul J. De Bartolomeo and Daniel Gordon\nCT Custom Fire Training LLC & Flash Fire Industries \n8:30 AM – 4:30 PM – Fire Station\nMachinery Rescue by Take the Door Training\nPresented by: Auggie Matt
URL:https://connecticutfirechiefs.com/index.php/event/new-england-fire-rescue-ems-expo-2019/
END:VEVENT
END:VCALENDAR