BEGIN:VCALENDAR
VERSION:2.0
PRODID:-//Connecticut Fire Chiefs Association - ECPv5.2.1//NONSGML v1.0//EN
CALSCALE:GREGORIAN
METHOD:PUBLISH
X-WR-CALNAME:Connecticut Fire Chiefs Association
X-ORIGINAL-URL:https://connecticutfirechiefs.com
X-WR-CALDESC:Events for Connecticut Fire Chiefs Association
BEGIN:VTIMEZONE
TZID:UTC
BEGIN:STANDARD
TZOFFSETFROM:+0000
TZOFFSETTO:+0000
TZNAME:UTC
DTSTART:20220101T000000
END:STANDARD
END:VTIMEZONE
BEGIN:VEVENT
DTSTART;TZID=UTC:20221025T183000
DTEND;TZID=UTC:20221025T233000
DTSTAMP:20260423T065913
CREATED:20220713T151623Z
LAST-MODIFIED:20221025T101737Z
UID:892-1666722600-1666740600@connecticutfirechiefs.com
SUMMARY:October 25  Cafe Luna\, Cromwell\, CT
DESCRIPTION:  \nOur October monthly meeting will be held at Café Luna in Cromwell on Tuesday October 25 starting at 6:30pm. \nTraining topic- a member of the Salvation Army will discuss the canteen program they offer in the state of Connecticut. \nThe cost is $35/per person\, and it will be buffet style dinner with a cash bar. \nPLEASE RSVP BY OCTOBER 18\, 2022\, so we can provide an accurate head count to the restaurant. \nLocation- Café Luna 35 Berlin Road\, Cromwell\, CT  06416 \n  \nR S V P\n 
URL:https://connecticutfirechiefs.com/index.php/event/october-25-cafe-luna-cromwell-ct/
LOCATION:Cafe Luna\, 35 Berlin Road\, Cromwell\, CT\, 06416\, United States
END:VEVENT
END:VCALENDAR