BEGIN:VCALENDAR
VERSION:2.0
PRODID:-//Connecticut Fire Chiefs Association - ECPv5.2.1//NONSGML v1.0//EN
CALSCALE:GREGORIAN
METHOD:PUBLISH
X-WR-CALNAME:Connecticut Fire Chiefs Association
X-ORIGINAL-URL:https://connecticutfirechiefs.com
X-WR-CALDESC:Events for Connecticut Fire Chiefs Association
BEGIN:VTIMEZONE
TZID:UTC
BEGIN:STANDARD
TZOFFSETFROM:+0000
TZOFFSETTO:+0000
TZNAME:UTC
DTSTART:20190101T000000
END:STANDARD
END:VTIMEZONE
BEGIN:VEVENT
DTSTART;TZID=UTC:20190912T083000
DTEND;TZID=UTC:20190912T154500
DTSTAMP:20260423T140210
CREATED:20190822T172705Z
LAST-MODIFIED:20190822T173210Z
UID:444-1568277000-1568303100@connecticutfirechiefs.com
SUMMARY:SERC 2019 Conference
DESCRIPTION:The State Emergency Response Commission 2019 Conference will be held at the Legislative Office Building – Room 2C\, 300 Capitol Avenue in Hartford. This free conference is provided by funding from the U.S. Department of Transportation\, Pipeline and Hazardous Materials Safety Administration Agency\, Hazardous Materials Emergency Preparedness Grant (HMEP). This is a great opportunity to network with first responders\, industry experts and regulators. ODEM has awarded 1.5 Fire Marshal Credits for this conference. Lunch will be provided. See the attached flyer for conference details. \nPrograms to include: \nMassachusetts Natural Gas Over Pressurization Event\nBrian Moriarty\, Fire Chief – Lawrence (MA) Fire Department \nSERC Business Meeting and Updates from DEEP including CT Toxic Users and Climate Risk Map Viewer \nPreliminary Findings from Connecticut 2019 Hazardous Materials Commodity Flow Study\nJohn J. Steinauer\, IEM \nUS EPA EPCRA – America’s Water Infrastructure Act and Tier 2 Update\nLen Wallace\, Environmental Scientist – U.S. EPA Region 1 \nInside the Fence Line: The Value of Public Private Partnerships\nKeith Silverman\, Senior V.P. Global Operations & EHS – Ashland Chemical\nBill Cullen\, Partner – Goldshield Team \nTo register for this free program\, please visit the Connecticut Fire Academy’s On-line Registration System: \nRegister Now\n  \nMore details
URL:https://connecticutfirechiefs.com/index.php/event/serc-2019-conference/
END:VEVENT
END:VCALENDAR