BEGIN:VCALENDAR
VERSION:2.0
PRODID:-//Connecticut Fire Chiefs Association - ECPv5.2.1//NONSGML v1.0//EN
CALSCALE:GREGORIAN
METHOD:PUBLISH
X-WR-CALNAME:Connecticut Fire Chiefs Association
X-ORIGINAL-URL:https://connecticutfirechiefs.com
X-WR-CALDESC:Events for Connecticut Fire Chiefs Association
BEGIN:VTIMEZONE
TZID:UTC
BEGIN:STANDARD
TZOFFSETFROM:+0000
TZOFFSETTO:+0000
TZNAME:UTC
DTSTART:20210101T000000
END:STANDARD
END:VTIMEZONE
BEGIN:VEVENT
DTSTART;TZID=UTC:20210727T180000
DTEND;TZID=UTC:20210727T210000
DTSTAMP:20260423T120756
CREATED:20210615T153437Z
LAST-MODIFIED:20210720T111656Z
UID:767-1627408800-1627419600@connecticutfirechiefs.com
SUMMARY:The July Meeting of the CFCA will be at the Portland Fire Department Picnic Grounds
DESCRIPTION:The Monthly Dinner Hybrid Meeting of the CT Fire Chiefs Association will be on Tuesday\, July 27\, 2021. We will meet at 6 PM\, before a picnic dinner at 6:30 PM\, on the CT river followed by your monthly meeting at 7:30 PM. The picnic meeting will be held at the Portland Fire Department\, #2 Picnic Grounds on 84 Indian Hill Avenue\, Portland\, CT .    A ZOOM link will be sent to the membership via email if you cannot attend the event. \nR S V P
URL:https://connecticutfirechiefs.com/index.php/event/the-july-meeting-of-the-cfca-will-be-at-the-portland-fire-department-picnic-grounds/
LOCATION:Portland Fire Department 84 Indian Hill Ave. Picnic Grounds\, 84 Indian Hill Avenue\, Portland\, CT\, 06480\, United States
END:VEVENT
END:VCALENDAR