BEGIN:VCALENDAR
VERSION:2.0
PRODID:-//Connecticut Fire Chiefs Association - ECPv5.2.1//NONSGML v1.0//EN
CALSCALE:GREGORIAN
METHOD:PUBLISH
X-WR-CALNAME:Connecticut Fire Chiefs Association
X-ORIGINAL-URL:https://connecticutfirechiefs.com
X-WR-CALDESC:Events for Connecticut Fire Chiefs Association
BEGIN:VTIMEZONE
TZID:UTC
BEGIN:STANDARD
TZOFFSETFROM:+0000
TZOFFSETTO:+0000
TZNAME:UTC
DTSTART:20210101T000000
END:STANDARD
END:VTIMEZONE
BEGIN:VEVENT
DTSTART;VALUE=DATE:20210601
DTEND;VALUE=DATE:20210701
DTSTAMP:20260423T120317
CREATED:20210615T153044Z
LAST-MODIFIED:20210615T153044Z
UID:764-1622505600-1625097599@connecticutfirechiefs.com
SUMMARY:There will be no meeting of the CFCA in June
DESCRIPTION:
URL:https://connecticutfirechiefs.com/index.php/event/there-will-be-no-meeting-of-the-cfca-in-june/
END:VEVENT
END:VCALENDAR