BEGIN:VCALENDAR
VERSION:2.0
PRODID:-//Connecticut Fire Chiefs Association - ECPv5.2.1//NONSGML v1.0//EN
CALSCALE:GREGORIAN
METHOD:PUBLISH
X-WR-CALNAME:Connecticut Fire Chiefs Association
X-ORIGINAL-URL:https://connecticutfirechiefs.com
X-WR-CALDESC:Events for Connecticut Fire Chiefs Association
BEGIN:VTIMEZONE
TZID:UTC
BEGIN:STANDARD
TZOFFSETFROM:+0000
TZOFFSETTO:+0000
TZNAME:UTC
DTSTART:20240101T000000
END:STANDARD
END:VTIMEZONE
BEGIN:VEVENT
DTSTART;TZID=UTC:20241126T180000
DTEND;TZID=UTC:20241126T233000
DTSTAMP:20260421T091506
CREATED:20241104T225800Z
LAST-MODIFIED:20241104T231557Z
UID:1123-1732644000-1732663800@connecticutfirechiefs.com
SUMMARY:CFCA Annual Meeting & Banquet November 26  Lake View Restaurant\, Coventry\, CT
DESCRIPTION:The Annual  Meeting of the CT Fire Chiefs Association will be held on Tuesday November 26\, 2024 at: \nLake View Restaurant \n50 Lake Street\, Coventry\, CT 06238 \nDinner cost is $40.00 \nPlease RSVP by Thursday November 21 \nA social hour with our guests will begin at 6 PM with an open bar from 6 to 7\, with dinner and cash bar to follow at 7 PM. The following Chiefs were nominated at the October meeting for the positions noted.  Do to the fact that there was not a quorum at this meeting\, elections will take place at this November business meeting\, and the swearing in of your new Officers will follow.                \nChief Bud Meyers\, Town of Coventry Fire EMS           President \nChief John Roache  Mansfield Fire Department         1st Vice President   \nChief Glenn Clark\, Thomaston Fire Department         2nd Vice President \nFormal attire suit and tie or Class “A” uniform is recommended.  \nA Zoom link will be emailed to the membership prior to the meeting date for those who cannot join us in person at this special event. \nR. S. V. P.
URL:https://connecticutfirechiefs.com/index.php/event/cfca-annual-meeting-banquet-november-26-lake-view-restaurant-coventry-ct/
LOCATION:Lakeview Restaurant\, 50 Lake Street\, Coventry\, CT\, 06238\, United States
END:VEVENT
END:VCALENDAR