BEGIN:VCALENDAR
VERSION:2.0
PRODID:-//Connecticut Fire Chiefs Association - ECPv5.2.1//NONSGML v1.0//EN
CALSCALE:GREGORIAN
METHOD:PUBLISH
X-WR-CALNAME:Connecticut Fire Chiefs Association
X-ORIGINAL-URL:https://connecticutfirechiefs.com
X-WR-CALDESC:Events for Connecticut Fire Chiefs Association
BEGIN:VTIMEZONE
TZID:UTC
BEGIN:STANDARD
TZOFFSETFROM:+0000
TZOFFSETTO:+0000
TZNAME:UTC
DTSTART:20250101T000000
END:STANDARD
END:VTIMEZONE
BEGIN:VEVENT
DTSTART;TZID=UTC:20250826T180000
DTEND;TZID=UTC:20250826T210000
DTSTAMP:20260421T084938
CREATED:20250813T160452Z
LAST-MODIFIED:20250818T092907Z
UID:1171-1756231200-1756242000@connecticutfirechiefs.com
SUMMARY:Join Us August 26th at Windham Golf Course for Golf & Dinner!
DESCRIPTION:August 26th is right around the corner\, and we’re excited to welcome our guest speaker from Garage! \nGarage is an innovative online marketplace that helps fire departments\, municipalities\, and dealers buy and sell used equipment and apparatus. Their mission is simple it connects surplus vehicles and gear with departments that need it\, so valuable resources keep working where they are needed most. \nCome ready to learn how this platform is helping departments across the country put good equipment back into service! \n  \n  \n 
URL:https://connecticutfirechiefs.com/index.php/event/cfca-august-26-meeting-windham-golf-course/
LOCATION:Windham Golf Course\, 184 Club Road\, Windham\, CT\, 06256\, United States
END:VEVENT
END:VCALENDAR